BEGIN:VCALENDAR
VERSION:2.0
PRODID:-//pretix//pretix.eu//
BEGIN:VTIMEZONE
TZID:Europe/Berlin
BEGIN:STANDARD
DTSTART:20001029T040000
RRULE:FREQ=YEARLY;BYDAY=-1SU;BYMONTH=10
TZNAME:CET
TZOFFSETFROM:+0200
TZOFFSETTO:+0100
END:STANDARD
BEGIN:DAYLIGHT
DTSTART:20000326T030000
RRULE:FREQ=YEARLY;BYDAY=-1SU;BYMONTH=3
TZNAME:CEST
TZOFFSETFROM:+0100
TZOFFSETTO:+0200
END:DAYLIGHT
END:VTIMEZONE
BEGIN:VEVENT
UID:pretix-sc-harsum-fu-fussball-campjugend-3856435@sc-harsum.vereinsticket
 .de
DTSTART;TZID=Europe/Berlin:20230716T143000
DTEND;TZID=Europe/Berlin:20230716T153000
DESCRIPTION:Tickets: https://sc-harsum.vereinsticket.de/fu-fussball-campjug
 end/3856435/\nEinlass: 07.07.2023 14:00\nVeranstalter: SC Harsum von 1919 
 e.V.
DTSTAMP:20260422T001659Z
LOCATION:Sportplatz Förster Straße\, A-Platz\, Förster Straße\, 31177 H
 arsum
SUMMARY:3. Fußballcamp
END:VEVENT
END:VCALENDAR
