BEGIN:VCALENDAR
VERSION:2.0
PRODID:-//pretix//pretix.eu//
BEGIN:VTIMEZONE
TZID:Europe/Berlin
BEGIN:STANDARD
DTSTART:20001029T040000
RRULE:FREQ=YEARLY;BYDAY=-1SU;BYMONTH=10
TZNAME:CET
TZOFFSETFROM:+0200
TZOFFSETTO:+0100
END:STANDARD
BEGIN:DAYLIGHT
DTSTART:20000326T030000
RRULE:FREQ=YEARLY;BYDAY=-1SU;BYMONTH=3
TZNAME:CEST
TZOFFSETFROM:+0100
TZOFFSETTO:+0200
END:DAYLIGHT
END:VTIMEZONE
BEGIN:VEVENT
UID:pretix-sc-harsum-fu-spenden-aktion-4582241@sc-harsum.vereinsticket.de
DTSTART;TZID=Europe/Berlin:20250706T100000
DTEND;TZID=Europe/Berlin:20250706T110000
DESCRIPTION:Tickets: https://sc-harsum.vereinsticket.de/fu-spenden-aktion/4
 582241/\nEinlass: 06.07.2025 10:00\nVeranstalter: SC Harsum von 1919 e.V.
DTSTAMP:20260420T053252Z
LOCATION:Sportplatz Förster Straße\, A-Platz\, Förster Straße\, 31177 H
 arsum
SUMMARY:Spendenaktion
END:VEVENT
END:VCALENDAR
